BEGIN:VCALENDAR
VERSION:2.0
PRODID:-//jEvents 2.0 for Joomla//EN
CALSCALE:GREGORIAN
METHOD:PUBLISH
BEGIN:VEVENT
UID:e5a0a20dccdeac1580a0064786189739
CATEGORIES:Ride Day
CREATED:20260226T170831
SUMMARY:Passenger Ride Day
LOCATION:MotorMall Wanneroo Raceway
URL;VALUE=URI:https://hsvownersclubofwa.com.au/events/eventdetail/685/-/passenger-ride-da
 y?tmpl=component
DESCRIPTION:Passenger Ride Day\n This event was imported from: https://hsvownersclubofw
 a.com.au/events/eventdetail/685/-/passenger-ride-day?tmpl=component (https:
 //hsvownersclubofwa.com.au/events/eventdetail/685/-/passenger-ride-day?tmpl
 =component)
X-ALT-DESC;FMTTYPE=text/html:<p>Passenger Ride Day</p> <a href="https://hsvownersclubofwa.com.au/events/
 eventdetail/685/-/passenger-ride-day?tmpl=component">This event was importe
 d from: https://hsvownersclubofwa.com.au/events/eventdetail/685/-/passenger
 -ride-day?tmpl=component</a>DTSTAMP:20260424T125831
DTSTART;TZID=Australia/Perth:20261205T070000
SEQUENCE:0
TRANSP:OPAQUE
END:VEVENT
END:VCALENDAR