BEGIN:VCALENDAR
VERSION:2.0
PRODID:-//jEvents 2.0 for Joomla//EN
CALSCALE:GREGORIAN
METHOD:PUBLISH
BEGIN:VEVENT
UID:c7bb8f4115eee55f5291df16dfabe3da
CATEGORIES:Sprint
CREATED:20260226T170329
SUMMARY:Collie Sprint - Round 10
LOCATION:Collie Motorplex
URL;VALUE=URI:https://hsvownersclubofwa.com.au/events/eventdetail/684/-/collie-sprint-rou
 nd-10?tmpl=component
DESCRIPTION:Collie Sprint - Round 10\n This event was imported from: https://hsvownersc
 lubofwa.com.au/events/eventdetail/684/-/collie-sprint-round-10?tmpl=compone
 nt
X-ALT-DESC;FMTTYPE=text/html:<p>Collie Sprint - Round 10</p> <a href="https://hsvownersclubofwa.com.au/e
 vents/eventdetail/684/-/collie-sprint-round-10?tmpl=component">This event w
 as imported from: https://hsvownersclubofwa.com.au/events/eventdetail/684/-
 /collie-sprint-round-10?tmpl=component</a>DTSTAMP:20260424T125830
DTSTART;TZID=Australia/Perth:20261018T080000
SEQUENCE:0
TRANSP:OPAQUE
END:VEVENT
END:VCALENDAR