BEGIN:VCALENDAR
VERSION:2.0
PRODID:-//jEvents 2.0 for Joomla//EN
CALSCALE:GREGORIAN
METHOD:PUBLISH
BEGIN:VEVENT
UID:52664f29d8217753758325d545eca8d5
CATEGORIES:Hill Climb
CREATED:20260226T170046
SUMMARY:Collie Hill Climb - Round 9
LOCATION:Collie Motorplex
URL;VALUE=URI:https://hsvownersclubofwa.com.au/events/eventdetail/683/-/collie-hill-climb
 -round-9?tmpl=component
DESCRIPTION:Collie Hill Climb - Round 9\n This event was imported from: https://hsvowne
 rsclubofwa.com.au/events/eventdetail/683/-/collie-hill-climb-round-9?tmpl=c
 omponent (https://hsvownersclubofwa.com.au/events/eventdetail/683/-/collie-
 hill-climb-round-9?tmpl=component)
X-ALT-DESC;FMTTYPE=text/html:<p>Collie Hill Climb - Round 9</p> <a href="https://hsvownersclubofwa.com.a
 u/events/eventdetail/683/-/collie-hill-climb-round-9?tmpl=component">This e
 vent was imported from: https://hsvownersclubofwa.com.au/events/eventdetail
 /683/-/collie-hill-climb-round-9?tmpl=component</a>DTSTAMP:20260424T125833
DTSTART;TZID=Australia/Perth:20261017T080000
SEQUENCE:0
TRANSP:OPAQUE
END:VEVENT
END:VCALENDAR