BEGIN:VCALENDAR
VERSION:2.0
PRODID:-//jEvents 2.0 for Joomla//EN
CALSCALE:GREGORIAN
METHOD:PUBLISH
BEGIN:VEVENT
UID:8cfe948e18ef0f1a769ebd64a88fcfe3
CATEGORIES:Sprint
CREATED:20260226T164732
SUMMARY:Wanneroo Sprint - Round 8
LOCATION:MotorMall Wanneroo Raceway
URL;VALUE=URI:https://hsvownersclubofwa.com.au/events/eventdetail/682/-/wanneroo-sprint-r
 ound-8?tmpl=component
DESCRIPTION:Wanneroo Sprint - Round 8\n This event was imported from: https://hsvowners
 clubofwa.com.au/events/eventdetail/682/-/wanneroo-sprint-round-8?tmpl=compo
 nent (https://hsvownersclubofwa.com.au/events/eventdetail/682/-/wanneroo-sp
 rint-round-8?tmpl=component)
X-ALT-DESC;FMTTYPE=text/html:<p>Wanneroo Sprint - Round 8</p> <a href="https://hsvownersclubofwa.com.au/
 events/eventdetail/682/-/wanneroo-sprint-round-8?tmpl=component">This event
  was imported from: https://hsvownersclubofwa.com.au/events/eventdetail/682
 /-/wanneroo-sprint-round-8?tmpl=component</a>DTSTAMP:20260424T125837
DTSTART;TZID=Australia/Perth:20260913T080000
SEQUENCE:0
TRANSP:OPAQUE
END:VEVENT
END:VCALENDAR