BEGIN:VCALENDAR
VERSION:2.0
PRODID:-//jEvents 2.0 for Joomla//EN
CALSCALE:GREGORIAN
METHOD:PUBLISH
BEGIN:VEVENT
UID:72c31cee0bef1e5428d9d4e3a73a7990
CATEGORIES:Sprint
CREATED:20260226T164552
SUMMARY:Perth Motorplex Sprint - Round 7
LOCATION:Perth Motorplex
URL;VALUE=URI:https://hsvownersclubofwa.com.au/events/eventdetail/681/-/perth-motorplex-s
 print-round-7?tmpl=component
DESCRIPTION:Perth Motorplex Sprint - Round 7\n \n This event was imported from: https:/
 /hsvownersclubofwa.com.au/events/eventdetail/681/-/perth-motorplex-sprint-r
 ound-7?tmpl=component
X-ALT-DESC;FMTTYPE=text/html:<p>Perth Motorplex Sprint - Round 7</p><p>&nbsp;</p> <a href="https://hsvow
 nersclubofwa.com.au/events/eventdetail/681/-/perth-motorplex-sprint-round-7
 ?tmpl=component">This event was imported from: https://hsvownersclubofwa.co
 m.au/events/eventdetail/681/-/perth-motorplex-sprint-round-7?tmpl=component
 </a>DTSTAMP:20260424T125828
DTSTART;TZID=Australia/Perth:20260815T080000
SEQUENCE:0
TRANSP:OPAQUE
END:VEVENT
END:VCALENDAR