BEGIN:VCALENDAR
VERSION:2.0
PRODID:-//jEvents 2.0 for Joomla//EN
CALSCALE:GREGORIAN
METHOD:PUBLISH
BEGIN:VEVENT
UID:e06d1f76386a37b4bd2b025c84747db2
CATEGORIES:Sprint
CREATED:20260226T162559
SUMMARY:Perth Motorplex Sprint - Round 4
LOCATION:Perth Motorplex
URL;VALUE=URI:https://hsvownersclubofwa.com.au/events/eventdetail/679/-/perth-motorplex-s
 print-round-4?tmpl=component
DESCRIPTION:Perth Motorplex Sprint - Round 4\n This event was imported from: https://hs
 vownersclubofwa.com.au/events/eventdetail/679/-/perth-motorplex-sprint-roun
 d-4?tmpl=component (https://hsvownersclubofwa.com.au/events/eventdetail/679
 /-/perth-motorplex-sprint-round-4?tmpl=component)
X-ALT-DESC;FMTTYPE=text/html:<p>Perth Motorplex Sprint - Round 4</p> <a href="https://hsvownersclubofwa.
 com.au/events/eventdetail/679/-/perth-motorplex-sprint-round-4?tmpl=compone
 nt">This event was imported from: https://hsvownersclubofwa.com.au/events/e
 ventdetail/679/-/perth-motorplex-sprint-round-4?tmpl=component</a>DTSTAMP:20260424T141513
DTSTART;TZID=Australia/Perth:20260523T080000
SEQUENCE:0
TRANSP:OPAQUE
END:VEVENT
END:VCALENDAR