BEGIN:VCALENDAR
VERSION:2.0
PRODID:-//jEvents 2.0 for Joomla//EN
CALSCALE:GREGORIAN
METHOD:PUBLISH
BEGIN:VEVENT
UID:b3289a5e10d93f2adfdd8af499102600
CATEGORIES:Sprint
CREATED:20260226T162330
SUMMARY:Collie Long Track - Round 5
LOCATION:Collie Motorplex
URL;VALUE=URI:https://hsvownersclubofwa.com.au/events/eventdetail/678/-/collie-long-track
 -round-5?tmpl=component
DESCRIPTION:Run by TSOA - Please see their website to enter - https://tsoa-wa.com/all-e
 vents/ (https://tsoa-wa.com/all-events/)\n \n This event was imported from:
  https://hsvownersclubofwa.com.au/events/eventdetail/678/-/collie-long-trac
 k-round-5?tmpl=component (https://hsvownersclubofwa.com.au/events/eventdeta
 il/678/-/collie-long-track-round-5?tmpl=component)
X-ALT-DESC;FMTTYPE=text/html:<p>Run by TSOA - Please see their website to enter -&nbsp;<a href="https://
 tsoa-wa.com/all-events/" target="_blank" rel="noopener">https://tsoa-wa.com
 /all-events/</a></p><p>&nbsp;</p> <a href="https://hsvownersclubofwa.com.au
 /events/eventdetail/678/-/collie-long-track-round-5?tmpl=component">This ev
 ent was imported from: https://hsvownersclubofwa.com.au/events/eventdetail/
 678/-/collie-long-track-round-5?tmpl=component</a>DTSTAMP:20260424T125826
DTSTART;TZID=Australia/Perth:20260628T080000
SEQUENCE:0
TRANSP:OPAQUE
END:VEVENT
END:VCALENDAR