BEGIN:VCALENDAR
VERSION:2.0
PRODID:-//jEvents 2.0 for Joomla//EN
CALSCALE:GREGORIAN
METHOD:PUBLISH
BEGIN:VEVENT
UID:404c712548bf7771055bcd6887e4a247
CATEGORIES:Show 'n' Shine
CREATED:20260226T150324
SUMMARY:Tarmac West Celebration of Motorsport Show'n'Shine - TBC
LOCATION:Langley Park
URL;VALUE=URI:https://hsvownersclubofwa.com.au/events/eventdetail/676/-/tarmac-west-celeb
 ration-of-motorsport-shownshine-tbc?tmpl=component
DESCRIPTION:Details TBC\n This event was imported from: https://hsvownersclubofwa.com.a
 u/events/eventdetail/676/-/tarmac-west-celebration-of-motorsport-shownshine
 -tbc?tmpl=component (https://hsvownersclubofwa.com.au/events/eventdetail/67
 6/-/tarmac-west-celebration-of-motorsport-shownshine-tbc?tmpl=component)
X-ALT-DESC;FMTTYPE=text/html:<p>Details TBC</p> <a href="https://hsvownersclubofwa.com.au/events/eventde
 tail/676/-/tarmac-west-celebration-of-motorsport-shownshine-tbc?tmpl=compon
 ent">This event was imported from: https://hsvownersclubofwa.com.au/events/
 eventdetail/676/-/tarmac-west-celebration-of-motorsport-shownshine-tbc?tmpl
 =component</a>DTSTAMP:20260424T125828
DTSTART;TZID=Australia/Perth:20260920T073000
SEQUENCE:0
TRANSP:OPAQUE
END:VEVENT
END:VCALENDAR