BEGIN:VCALENDAR
VERSION:2.0
PRODID:-//jEvents 2.0 for Joomla//EN
CALSCALE:GREGORIAN
METHOD:PUBLISH
BEGIN:VEVENT
UID:e500705caeebb7a7d310af125fab5a92
CATEGORIES:Show 'n' Shine
CREATED:20260226T144808
SUMMARY:Curtin FM 100.1 Car Show - TBC
LOCATION:Curtin Uni
URL;VALUE=URI:https://hsvownersclubofwa.com.au/events/eventdetail/675/-/curtin-fm-100-1-c
 ar-show-tbc?tmpl=component
DESCRIPTION:Details TBC\n This event was imported from: https://hsvownersclubofwa.com.a
 u/events/eventdetail/675/-/curtin-fm-100-1-car-show-tbc?tmpl=component
X-ALT-DESC;FMTTYPE=text/html:<p>Details TBC</p> <a href="https://hsvownersclubofwa.com.au/events/eventde
 tail/675/-/curtin-fm-100-1-car-show-tbc?tmpl=component">This event was impo
 rted from: https://hsvownersclubofwa.com.au/events/eventdetail/675/-/curtin
 -fm-100-1-car-show-tbc?tmpl=component</a>DTSTAMP:20260424T125820
DTSTART;TZID=Australia/Perth:20261004T080000
SEQUENCE:0
TRANSP:OPAQUE
END:VEVENT
END:VCALENDAR