BEGIN:VCALENDAR
VERSION:2.0
PRODID:-//jEvents 2.0 for Joomla//EN
CALSCALE:GREGORIAN
METHOD:PUBLISH
BEGIN:VEVENT
UID:27c2f67cc62085ec0f880da8b8bf5d95
CATEGORIES:Cruise
CREATED:20260226T143556
SUMMARY:Peter Brock Memorial Cruise - TBC
LOCATION:Peter Brock Memorial
URL;VALUE=URI:https://hsvownersclubofwa.com.au/events/eventdetail/674/-/peter-brock-memor
 ial-cruise-tbc?tmpl=component
DESCRIPTION:Details TBC\n This event was imported from: https://hsvownersclubofwa.com.a
 u/events/eventdetail/674/-/peter-brock-memorial-cruise-tbc?tmpl=component (
 https://hsvownersclubofwa.com.au/events/eventdetail/674/-/peter-brock-memor
 ial-cruise-tbc?tmpl=component)
X-ALT-DESC;FMTTYPE=text/html:<p>Details TBC</p> <a href="https://hsvownersclubofwa.com.au/events/eventde
 tail/674/-/peter-brock-memorial-cruise-tbc?tmpl=component">This event was i
 mported from: https://hsvownersclubofwa.com.au/events/eventdetail/674/-/pet
 er-brock-memorial-cruise-tbc?tmpl=component</a>DTSTAMP:20260424T152907
DTSTART;TZID=Australia/Perth:20260905T080000
SEQUENCE:0
TRANSP:OPAQUE
END:VEVENT
END:VCALENDAR