BEGIN:VCALENDAR
VERSION:2.0
PRODID:-//jEvents 2.0 for Joomla//EN
CALSCALE:GREGORIAN
METHOD:PUBLISH
BEGIN:VEVENT
UID:8ca06f11a11cc8464052e605dd05d1e3
CATEGORIES:General Social Event
CREATED:20260226T142433
SUMMARY:HSVOCWA Cars and Coffee (Cruise, Cubes and Coffee) - TBC
URL;VALUE=URI:https://hsvownersclubofwa.com.au/events/eventdetail/673/-/hsvocwa-cars-and-
 coffee-cruise-cubes-and-coffee-tbc?tmpl=component
DESCRIPTION:Details TBC\n This event was imported from: https://hsvownersclubofwa.com.a
 u/events/eventdetail/673/-/hsvocwa-cars-and-coffee-cruise-cubes-and-coffee-
 tbc?tmpl=component (https://hsvownersclubofwa.com.au/events/eventdetail/673
 /-/hsvocwa-cars-and-coffee-cruise-cubes-and-coffee-tbc?tmpl=component)
X-ALT-DESC;FMTTYPE=text/html:<p>Details TBC</p> <a href="https://hsvownersclubofwa.com.au/events/eventde
 tail/673/-/hsvocwa-cars-and-coffee-cruise-cubes-and-coffee-tbc?tmpl=compone
 nt">This event was imported from: https://hsvownersclubofwa.com.au/events/e
 ventdetail/673/-/hsvocwa-cars-and-coffee-cruise-cubes-and-coffee-tbc?tmpl=c
 omponent</a>DTSTAMP:20260424T125835
DTSTART;TZID=Australia/Perth:20260808T080000
SEQUENCE:0
TRANSP:OPAQUE
END:VEVENT
END:VCALENDAR