BEGIN:VCALENDAR
VERSION:2.0
PRODID:-//jEvents 2.0 for Joomla//EN
CALSCALE:GREGORIAN
METHOD:PUBLISH
BEGIN:VEVENT
UID:babbab8a7f46f29296c8db70a56cfbc8
CATEGORIES:General Social Event
CREATED:20260226T142011
SUMMARY:HSVOCWA Cars and Coffee (Revved up and Caffeinated) - TBC
URL;VALUE=URI:https://hsvownersclubofwa.com.au/events/eventdetail/672/-/hsvocwa-cars-and-
 coffee-revved-up-and-caffeinated-tbc?tmpl=component
DESCRIPTION:Details TBC\n This event was imported from: https://hsvownersclubofwa.com.a
 u/events/eventdetail/672/-/hsvocwa-cars-and-coffee-revved-up-and-caffeinate
 d-tbc?tmpl=component (https://hsvownersclubofwa.com.au/events/eventdetail/6
 72/-/hsvocwa-cars-and-coffee-revved-up-and-caffeinated-tbc?tmpl=component)
X-ALT-DESC;FMTTYPE=text/html:<p>Details TBC</p> <a href="https://hsvownersclubofwa.com.au/events/eventde
 tail/672/-/hsvocwa-cars-and-coffee-revved-up-and-caffeinated-tbc?tmpl=compo
 nent">This event was imported from: https://hsvownersclubofwa.com.au/events
 /eventdetail/672/-/hsvocwa-cars-and-coffee-revved-up-and-caffeinated-tbc?tm
 pl=component</a>DTSTAMP:20260424T125835
DTSTART;TZID=Australia/Perth:20260719T080000
SEQUENCE:0
TRANSP:OPAQUE
END:VEVENT
END:VCALENDAR