BEGIN:VCALENDAR
VERSION:2.0
PRODID:-//jEvents 2.0 for Joomla//EN
CALSCALE:GREGORIAN
METHOD:PUBLISH
BEGIN:VEVENT
UID:41f4fcc647dad260e77cb3a4375f5215
CATEGORIES:Cruise
CREATED:20260226T134308
SUMMARY:Cruise to Noble Falls for Lunch - TBC
LOCATION:Noble Falls Tavern
URL;VALUE=URI:https://hsvownersclubofwa.com.au/events/eventdetail/671/-/cruise-to-noble-f
 alls-for-lunch-tbc?tmpl=component
DESCRIPTION:Details TBC\n This event was imported from: https://hsvownersclubofwa.com.a
 u/events/eventdetail/671/-/cruise-to-noble-falls-for-lunch-tbc?tmpl=compone
 nt
X-ALT-DESC;FMTTYPE=text/html:<p>Details TBC</p> <a href="https://hsvownersclubofwa.com.au/events/eventde
 tail/671/-/cruise-to-noble-falls-for-lunch-tbc?tmpl=component">This event w
 as imported from: https://hsvownersclubofwa.com.au/events/eventdetail/671/-
 /cruise-to-noble-falls-for-lunch-tbc?tmpl=component</a>DTSTAMP:20260424T115013
DTSTART;TZID=Australia/Perth:20260613T110000
SEQUENCE:0
TRANSP:OPAQUE
END:VEVENT
END:VCALENDAR